BEGIN:VCALENDAR
VERSION:2.0
PRODID:-//Plone.org//NONSGML plone.app.event//EN
X-WR-TIMEZONE:America/Sao_Paulo
BEGIN:VEVENT
SUMMARY:Processo Seletivo UFU em [ Auditorio Nobre do CAD 1 Auditorio 1A d
 o CAD 1 Auditorio A102 do Cad 2 Auditorio A104 do Cad 2 Auditorio 2A do CA
 D 1 Auditório B101/102 do CAD 3 Auditório B106 do CAD3 Auditório B107 d
 o CAD3 Auditório B301 do CAD 3 Auditório B302 do CAD 3 Outros espacos]
DTSTART;TZID=America/Sao_Paulo;VALUE=DATE-TIME:20230701T070000
DTEND;TZID=America/Sao_Paulo;VALUE=DATE-TIME:20230702T210000
DTSTAMP;VALUE=DATE-TIME:20260421T091326Z
UID:4dee77bb17b243d4a89f418fb1d4ff3f@150.164.76.86:8080
CREATED;VALUE=DATE-TIME:20230124T144504Z
DESCRIPTION:<p>Aplicação de provas do processo seletivo 2023 da UFU - Un
 iversidade Federal de Uberlândia</p>
LAST-MODIFIED;VALUE=DATE-TIME:20230124T144537Z
URL:http://150.164.76.86:8080/cac/agenda/4141809161784140161
END:VEVENT
BEGIN:VTIMEZONE
TZID:America/Sao_Paulo
X-LIC-LOCATION:America/Sao_Paulo
BEGIN:STANDARD
DTSTART;VALUE=DATE-TIME:20230225T230000
TZNAME:BRT
TZOFFSETFROM:-0200
TZOFFSETTO:-0300
END:STANDARD
END:VTIMEZONE
END:VCALENDAR
