BEGIN:VCALENDAR
VERSION:2.0
PRODID:-//Plone.org//NONSGML plone.app.event//EN
X-WR-TIMEZONE:America/Sao_Paulo
BEGIN:VEVENT
SUMMARY:18º FESTIVAL DE VERÃO E FEIRA DO LIVRO em [ Arena da praça de s
 erviços Entorno da Praca de Servicos]
DTSTART;TZID=America/Sao_Paulo;VALUE=DATE-TIME:20240308T060000
DTEND;TZID=America/Sao_Paulo;VALUE=DATE-TIME:20240322T210000
DTSTAMP;VALUE=DATE-TIME:20260420T044449Z
UID:c68f70c2a61b4e10b6f548ee7556dd18@150.164.76.86:8080
CREATED;VALUE=DATE-TIME:20231106T133910Z
DESCRIPTION:<p>18º FESTIVAL DE VERÃO - EVENTO DO CALENDÁRIO ACADÊMICO<
 /p>
LAST-MODIFIED;VALUE=DATE-TIME:20240216T131453Z
URL:http://150.164.76.86:8080/cac/agenda/4134345701446125142
END:VEVENT
BEGIN:VTIMEZONE
TZID:America/Sao_Paulo
X-LIC-LOCATION:America/Sao_Paulo
BEGIN:STANDARD
DTSTART;VALUE=DATE-TIME:20240217T230000
TZNAME:BRT
TZOFFSETFROM:-0200
TZOFFSETTO:-0300
END:STANDARD
END:VTIMEZONE
END:VCALENDAR
