BEGIN:VCALENDAR
VERSION:2.0
PRODID:-//Plone.org//NONSGML plone.app.event//EN
X-WR-TIMEZONE:America/Sao_Paulo
BEGIN:VEVENT
SUMMARY:Colação de Grau do Coltec-UFMG em [ Auditorio Nobre do CAD 1]
DTSTART;TZID=America/Sao_Paulo;VALUE=DATE-TIME:20220304T140000
DTEND;TZID=America/Sao_Paulo;VALUE=DATE-TIME:20220304T210000
DTSTAMP;VALUE=DATE-TIME:20260422T094255Z
UID:2d76b27570604bc3bab98f072893b3ae@150.164.76.86:8080
CREATED;VALUE=DATE-TIME:20211112T205751Z
DESCRIPTION:Equipamentos a serem utilizados:\n\n- projetor multimídia\;\n
 - Microfones\n- sonorização \n- mesa para as autoridades.\n\nProgramaç
 ão do evento:\n\n14-17h: tempo reservado para preparar o local para o eve
 nto\;\n17-18h30: recepção e organização dos formandos\;\n18h30-19h: re
 cepção dos convidados e autoridade\;s \n19h-21: Colação de grau
LAST-MODIFIED;VALUE=DATE-TIME:20211122T121633Z
URL:http://150.164.76.86:8080/cac/agenda/4125963014114711811
END:VEVENT
BEGIN:VTIMEZONE
TZID:America/Sao_Paulo
X-LIC-LOCATION:America/Sao_Paulo
BEGIN:STANDARD
DTSTART;VALUE=DATE-TIME:20220219T230000
TZNAME:BRT
TZOFFSETFROM:-0200
TZOFFSETTO:-0300
END:STANDARD
END:VTIMEZONE
END:VCALENDAR
