BEGIN:VCALENDAR
VERSION:2.0
PRODID:-//Plone.org//NONSGML plone.app.event//EN
X-WR-TIMEZONE:America/Sao_Paulo
BEGIN:VEVENT
SUMMARY:Ao Cair da Tarde - Circuito Cultural UFMG  em [ Arena da praça de
  serviços]
DTSTART;TZID=America/Sao_Paulo;VALUE=DATE-TIME:20201022T150000
DTEND;TZID=America/Sao_Paulo;VALUE=DATE-TIME:20201022T200000
DTSTAMP;VALUE=DATE-TIME:20260424T172957Z
UID:137c0bd4dd35430692c6c879cffc1375@150.164.76.86:8080
CREATED;VALUE=DATE-TIME:20200214T183803Z
DESCRIPTION:Evento Ao Cair da Tarde\, realizado pela Diretoria de Ação C
 ultural da UFMG. As demandas técnicas serão encaminhadas\, oportunamente
 \, pelo setor de Produção Executiva (Rosangela\, Danielle e André - 340
 9-6412 eventos@dac.ufmg.br).
LAST-MODIFIED;VALUE=DATE-TIME:20200217T135044Z
URL:http://150.164.76.86:8080/cac/agenda/4112191567663861801
END:VEVENT
BEGIN:VTIMEZONE
TZID:America/Sao_Paulo
X-LIC-LOCATION:America/Sao_Paulo
BEGIN:DAYLIGHT
DTSTART;VALUE=DATE-TIME:20201018T010000
TZNAME:BRST
TZOFFSETFROM:-0300
TZOFFSETTO:-0200
END:DAYLIGHT
END:VTIMEZONE
END:VCALENDAR
