BEGIN:VCALENDAR
VERSION:2.0
PRODID:-//Plone.org//NONSGML plone.app.event//EN
X-WR-TIMEZONE:America/Sao_Paulo
BEGIN:VEVENT
SUMMARY:Ao Cair da Tarde em [ Arena da praça de serviços]
DTSTART;TZID=America/Sao_Paulo;VALUE=DATE-TIME:20230413T140000
DTEND;TZID=America/Sao_Paulo;VALUE=DATE-TIME:20230413T193000
DTSTAMP;VALUE=DATE-TIME:20260421T150541Z
UID:87bf3db98123473d9db006e42f08112e@150.164.76.86:8080
CREATED;VALUE=DATE-TIME:20221124T150934Z
DESCRIPTION:<p>Quinta ao cair da tarde. Somente reserva de espaço\, equip
 amentos a definir.</p>
LAST-MODIFIED;VALUE=DATE-TIME:20221129T145313Z
URL:http://150.164.76.86:8080/cac/agenda/4085104551751326164
END:VEVENT
BEGIN:VTIMEZONE
TZID:America/Sao_Paulo
X-LIC-LOCATION:America/Sao_Paulo
BEGIN:STANDARD
DTSTART;VALUE=DATE-TIME:20230225T230000
TZNAME:BRT
TZOFFSETFROM:-0200
TZOFFSETTO:-0300
END:STANDARD
END:VTIMEZONE
END:VCALENDAR
