BEGIN:VCALENDAR
VERSION:2.0
PRODID:-//Plone.org//NONSGML plone.app.event//EN
X-WR-TIMEZONE:America/Sao_Paulo
BEGIN:VEVENT
SUMMARY:Ao Cair da tarde em [ Arena da praça de serviços]
DTSTART;TZID=America/Sao_Paulo;VALUE=DATE-TIME:20241205T150000
DTEND;TZID=America/Sao_Paulo;VALUE=DATE-TIME:20241205T200000
DTSTAMP;VALUE=DATE-TIME:20260419T163728Z
UID:68c3ed636d09429f8322ac31c714a974@150.164.76.86:8080
CREATED;VALUE=DATE-TIME:20241121T151343Z
DESCRIPTION:<p>Demanda técnica ainda a receber</p>
LAST-MODIFIED;VALUE=DATE-TIME:20241205T121801Z
URL:http://150.164.76.86:8080/cac/agenda/4056204525461600861
END:VEVENT
BEGIN:VTIMEZONE
TZID:America/Sao_Paulo
X-LIC-LOCATION:America/Sao_Paulo
BEGIN:DAYLIGHT
DTSTART;VALUE=DATE-TIME:20241020T010000
TZNAME:BRST
TZOFFSETFROM:-0300
TZOFFSETTO:-0200
END:DAYLIGHT
END:VTIMEZONE
END:VCALENDAR
