BEGIN:VCALENDAR
VERSION:2.0
PRODID:-//Plone.org//NONSGML plone.app.event//EN
X-WR-TIMEZONE:America/Sao_Paulo
BEGIN:VEVENT
SUMMARY:Projeto Recitais em [ Outros espacos]
DTSTART;TZID=America/Sao_Paulo;VALUE=DATE-TIME:20221117T193000
DTEND;TZID=America/Sao_Paulo;VALUE=DATE-TIME:20221117T210000
DTSTAMP;VALUE=DATE-TIME:20260421T221015Z
UID:f9d9b75ec25f43cab14ffa8b9acd53d4@150.164.76.86:8080
CREATED;VALUE=DATE-TIME:20221021T212141Z
DESCRIPTION:Show de lançamento do CD da Cantora Lucinha Bosco.\n\nSolicit
 amos o apoio da CAC para a realização do Evento:\n\na) técnicos de som 
 para a montagem\, execução e desmontagem do som.\n\nb) empréstimo de 02
  cx de subwoofer ativo\, para complementar o som do Centro Cultural. \n(Um
 a vez da possibilidade do empréstimo\, solicito que confirmem melhor dia 
 antes do show para buscar o equipamento).\n\nPrévisão - rider :\n\nFrent
 e\n 4 caixas \n4 retornos \n2 subgrave \n\nMesa \n- Cavaco 1 entrada \n- V
 iolão 6 cordas 1 entrada \n- Violão 7 cordas 1 entrada \n- Baixo 1 entra
 da \n- Teclado 1 entrada\n. Total de entradas: 5\n\n- Sax 1 microfone \n- 
 Trombone 1 microfone\n- Pandeiro 1 microfone \n- Tantã 1 microfone \n- Su
 rdo 1 microfone \n- Percussão 1 microfone \n- Bateria 1 microfone \n- Cor
 o 4 microfones \n- Cantor 1 microfone\n. Total de microfones: 12
LAST-MODIFIED;VALUE=DATE-TIME:20221101T202325Z
URL:http://150.164.76.86:8080/cac/agenda/4011447236002505790
END:VEVENT
BEGIN:VTIMEZONE
TZID:America/Sao_Paulo
X-LIC-LOCATION:America/Sao_Paulo
BEGIN:DAYLIGHT
DTSTART;VALUE=DATE-TIME:20221016T010000
TZNAME:BRST
TZOFFSETFROM:-0300
TZOFFSETTO:-0200
END:DAYLIGHT
END:VTIMEZONE
END:VCALENDAR
