BEGIN:VCALENDAR
VERSION:2.0
PRODID:-//Plone.org//NONSGML plone.app.event//EN
X-WR-TIMEZONE:America/Sao_Paulo
BEGIN:VEVENT
SUMMARY:Feira de Artesanato do Vale do Jequitinhonha em [ Arena da praça 
 de serviços Entorno da Praca de Servicos]
DTSTART;TZID=America/Sao_Paulo;VALUE=DATE-TIME:20240927T080000
DTEND;TZID=America/Sao_Paulo;VALUE=DATE-TIME:20240929T190000
DTSTAMP;VALUE=DATE-TIME:20260419T220128Z
UID:8850a18883b34ce2a87099e8037e6004@150.164.76.86:8080
CREATED;VALUE=DATE-TIME:20240702T164120Z
DESCRIPTION:Necessário som para apresentação musical
LAST-MODIFIED;VALUE=DATE-TIME:20240703T140714Z
URL:http://150.164.76.86:8080/cac/agenda/4004953857888681292
END:VEVENT
BEGIN:VTIMEZONE
TZID:America/Sao_Paulo
X-LIC-LOCATION:America/Sao_Paulo
BEGIN:STANDARD
DTSTART;VALUE=DATE-TIME:20240217T230000
TZNAME:BRT
TZOFFSETFROM:-0200
TZOFFSETTO:-0300
END:STANDARD
END:VTIMEZONE
END:VCALENDAR
