BEGIN:VCALENDAR
VERSION:2.0
PRODID:-//Plone.org//NONSGML plone.app.event//EN
X-WR-TIMEZONE:America/Sao_Paulo
BEGIN:VEVENT
SUMMARY:Abertura do Encontro Nacional de Redes de Mães e Familiares de V
 ítimas da violência do Estado em [ Auditorio da Reitoria]
DTSTART;TZID=America/Sao_Paulo;VALUE=DATE-TIME:20240516T140000
DTEND;TZID=America/Sao_Paulo;VALUE=DATE-TIME:20240516T160000
DTSTAMP;VALUE=DATE-TIME:20260420T032059Z
UID:97834395cfb14a8f960b00a93af14b6f@150.164.76.86:8080
CREATED;VALUE=DATE-TIME:20240325T190022Z
DESCRIPTION:<p>evento do Gabinete da Reitora</p>
LAST-MODIFIED;VALUE=DATE-TIME:20240513T183701Z
URL:http://150.164.76.86:8080/cac/agenda/3996869622791672035
END:VEVENT
BEGIN:VTIMEZONE
TZID:America/Sao_Paulo
X-LIC-LOCATION:America/Sao_Paulo
BEGIN:STANDARD
DTSTART;VALUE=DATE-TIME:20240217T230000
TZNAME:BRT
TZOFFSETFROM:-0200
TZOFFSETTO:-0300
END:STANDARD
END:VTIMEZONE
END:VCALENDAR
