BEGIN:VCALENDAR
VERSION:2.0
PRODID:-//Plone.org//NONSGML plone.app.event//EN
X-WR-TIMEZONE:America/Sao_Paulo
BEGIN:VEVENT
SUMMARY:I Congresso Brasileiro de Psicologia e Cannabis em [ Auditorio A10
 4 do Cad 2]
DTSTART;TZID=America/Sao_Paulo;VALUE=DATE-TIME:20220914T080000
DTEND;TZID=America/Sao_Paulo;VALUE=DATE-TIME:20220916T180000
DTSTAMP;VALUE=DATE-TIME:20260422T012702Z
UID:26eb4c87d4bf49c2b01488fafeefb204@150.164.76.86:8080
CREATED;VALUE=DATE-TIME:20220715T151217Z
DESCRIPTION:<div>Apresentação e justificativa:</div>\n<div><strong>SOBRE
  AS DATAS: IMPORTANTE SALIENTAR QUE no dia 17 de setembro (sábado) o even
 to será realizado apenas no período da manhã (até 12h).</strong></div>
 \n<div></div>\n<div>Meu email institucional: sergiocirino@ufmg.br</div>\n<
 div></div>\n<div>O "I Congresso Brasileiro de Psicologia e Cannabis" é um
 a parceria entre a Universidade Federal de Minas Gerais (UFMG) e a Comiss
 ão de Orientação em Psicologia</div>\n<div>em tratamentos com Cannabis 
 Terapêutica do Conselho Regional de Psicologia – Minas Gerais (CRP-MG).
  </div>\n<div></div>\n<div>A Comissão que teve origem como Grupo de Trab
 alho\, iniciado em agosto de 2020\, realizou audiências com especialistas
  de campos diversos\, pacientes\, cuidadores\, etc\, </div>\n<div>e busca
 ndo se informar sobre o tema entre a classe\, produziu a pesquisa “O con
 hecimento das(os) Psicólogas(os) mineiras(os) sobre Cannabis Terapêutica
 ”. </div>\n<div>Um universo de 938 respostas demonstrou que 75\,8% das(
 os) psicólogas(os) são favoráveis à regulamentação da cannabis e que
  sentem necessidade de orientação\, </div>\n<div>formação\, qualifica
 ção técnica e segurança institucional para acompanharem pacientes em u
 so de cannabis ou produtos à base de cannabis. </div>\n<div>Para tornar 
 pública a natureza destes debates\, o CRP-MG em parceria com a UFMG reali
 zarão este Congresso\, será lançada na ocasião uma publicação temát
 ica </div>\n<div>sobre cannabis\, com a referida pesquisa\, bem como as a
 udiências realizadas no G.T. O tema da Cannabis Terapêutica foi aprovado
  para apreciação e</div>\n<div>criação de agenda pelo Conselho Federal
  de Psicologia. Movidos por estas constatações\, ensejamos a realizaçã
 o desse Congresso\, que será pioneiro\, </div>\n<div>com vistas a dar co
 ntribuições às(aos) psicólogas(os)\, a outros profissionais da saúde\
 , profissionais de campos diversos e a população sobre a cannabis enquan
 to terapêutica. </div>\n<div>Estamos movidos pela urgência dessa pauta\
 , sob a ótica da ética que nos guia\, da relevância social e do comprom
 isso da Psicologia enquanto ciência e profissão\, </div>\n<div>pretende
 mos com este evento congregar pesquisadores brasileiros e a sociedade civi
 l para uma contribuição e um posicionamento. </div>\n<div></div>\n<div>
 A parceria com a UFMG é estratégica e crucial para um bom debate sobre o
  tema.</div>
LAST-MODIFIED;VALUE=DATE-TIME:20220908T115105Z
URL:http://150.164.76.86:8080/cac/agenda/3959187188808103504
END:VEVENT
BEGIN:VTIMEZONE
TZID:America/Sao_Paulo
X-LIC-LOCATION:America/Sao_Paulo
BEGIN:STANDARD
DTSTART;VALUE=DATE-TIME:20220219T230000
TZNAME:BRT
TZOFFSETFROM:-0200
TZOFFSETTO:-0300
END:STANDARD
END:VTIMEZONE
END:VCALENDAR
