BEGIN:VCALENDAR
VERSION:2.0
PRODID:-//Plone.org//NONSGML plone.app.event//EN
X-WR-TIMEZONE:America/Sao_Paulo
BEGIN:VEVENT
SUMMARY:Assembleia do SINDIFES - Apresentação do PGD pela PRORH em [ Aud
 itorio Nobre do CAD 1]
DTSTART;TZID=America/Sao_Paulo;VALUE=DATE-TIME:20230405T100000
DTEND;TZID=America/Sao_Paulo;VALUE=DATE-TIME:20230405T120000
DTSTAMP;VALUE=DATE-TIME:20260421T132712Z
UID:79d1401ce51141b79a183ad4fa622236@150.164.76.86:8080
CREATED;VALUE=DATE-TIME:20230328T152756Z
DESCRIPTION:<p>Tema: Assembleia do SINDIFES - Apresentação do PGD pela P
 RORH - Horário pode ser às 10 horas ou 14h30min. Público: entre 300 a
  500 pessoas.</p>
LAST-MODIFIED;VALUE=DATE-TIME:20230328T201931Z
URL:http://150.164.76.86:8080/cac/agenda/393563499343328503
END:VEVENT
BEGIN:VTIMEZONE
TZID:America/Sao_Paulo
X-LIC-LOCATION:America/Sao_Paulo
BEGIN:STANDARD
DTSTART;VALUE=DATE-TIME:20230225T230000
TZNAME:BRT
TZOFFSETFROM:-0200
TZOFFSETTO:-0300
END:STANDARD
END:VTIMEZONE
END:VCALENDAR
