BEGIN:VCALENDAR
VERSION:2.0
PRODID:-//Plone.org//NONSGML plone.app.event//EN
X-WR-TIMEZONE:America/Sao_Paulo
BEGIN:VEVENT
SUMMARY:Show sambista Adriana Araujo  em [ Arena da praça de serviços]
DTSTART;TZID=America/Sao_Paulo;VALUE=DATE-TIME:20221130T080000
DTEND;TZID=America/Sao_Paulo;VALUE=DATE-TIME:20221130T140000
DTSTAMP;VALUE=DATE-TIME:20260421T221035Z
UID:e133104ac1aa4963b9cd98fb3b77561b@150.164.76.86:8080
CREATED;VALUE=DATE-TIME:20220804T202804Z
DESCRIPTION:<p>Sonorização. O espetáculo seria um concerto na reitoria 
 mas Sergio encaminhou email cancelando na reitoria e passando para a Praç
 a mudando o artista. Por email em 21/10</p>
LAST-MODIFIED;VALUE=DATE-TIME:20221024T105911Z
URL:http://150.164.76.86:8080/cac/agenda/3934283910894722558
END:VEVENT
BEGIN:VTIMEZONE
TZID:America/Sao_Paulo
X-LIC-LOCATION:America/Sao_Paulo
BEGIN:DAYLIGHT
DTSTART;VALUE=DATE-TIME:20221016T010000
TZNAME:BRST
TZOFFSETFROM:-0300
TZOFFSETTO:-0200
END:DAYLIGHT
END:VTIMEZONE
END:VCALENDAR
