BEGIN:VCALENDAR
VERSION:2.0
PRODID:-//Plone.org//NONSGML plone.app.event//EN
X-WR-TIMEZONE:America/Sao_Paulo
BEGIN:VEVENT
SUMMARY:V EnACE em [ Auditorio A102 do Cad 2]
DTSTART;TZID=America/Sao_Paulo;VALUE=DATE-TIME:20250320T110000
DTEND;TZID=America/Sao_Paulo;VALUE=DATE-TIME:20250320T130000
DTSTAMP;VALUE=DATE-TIME:20260419T120123Z
UID:266f42e1710e45ceacf3c5991f5a24c8@150.164.76.86:8080
CREATED;VALUE=DATE-TIME:20250116T185359Z
DESCRIPTION:Datashow\, som
LAST-MODIFIED;VALUE=DATE-TIME:20250311T190425Z
URL:http://150.164.76.86:8080/cac/agenda/392338235983155570
END:VEVENT
BEGIN:VTIMEZONE
TZID:America/Sao_Paulo
X-LIC-LOCATION:America/Sao_Paulo
BEGIN:STANDARD
DTSTART;VALUE=DATE-TIME:20250215T230000
TZNAME:BRT
TZOFFSETFROM:-0200
TZOFFSETTO:-0300
END:STANDARD
END:VTIMEZONE
END:VCALENDAR
