BEGIN:VCALENDAR
VERSION:2.0
PRODID:-//Plone.org//NONSGML plone.app.event//EN
X-WR-TIMEZONE:America/Sao_Paulo
BEGIN:VEVENT
SUMMARY:Seminário Internacional de Cultura\, Democracia e Cidadania em [ 
 Auditorio da Reitoria]
DTSTART;TZID=America/Sao_Paulo;VALUE=DATE-TIME:20241029T080000
DTEND;TZID=America/Sao_Paulo;VALUE=DATE-TIME:20241031T200000
DTSTAMP;VALUE=DATE-TIME:20260419T191926Z
UID:d68fe0617a5d4b9e91966253f3487681@150.164.76.86:8080
CREATED;VALUE=DATE-TIME:20240821T204014Z
DESCRIPTION:<p>O seminário reunirá pesquisadores das universidades feder
 ais mineiras e de instituições vinculadas à Associação de Universidad
 es do Grupo Montevideo para discutir e apresentar propostas que tratem de 
 questões urgentes para o campo cultural internacional e latino-americano.
 </p>
LAST-MODIFIED;VALUE=DATE-TIME:20240930T184505Z
URL:http://150.164.76.86:8080/cac/agenda/3921025848106226672
END:VEVENT
BEGIN:VTIMEZONE
TZID:America/Sao_Paulo
X-LIC-LOCATION:America/Sao_Paulo
BEGIN:DAYLIGHT
DTSTART;VALUE=DATE-TIME:20241020T010000
TZNAME:BRST
TZOFFSETFROM:-0300
TZOFFSETTO:-0200
END:DAYLIGHT
END:VTIMEZONE
END:VCALENDAR
