BEGIN:VCALENDAR
VERSION:2.0
PRODID:-//Plone.org//NONSGML plone.app.event//EN
X-WR-TIMEZONE:America/Sao_Paulo
BEGIN:VEVENT
SUMMARY:Bancas de Heteroidentificação em [ Auditório B101/102 do CAD 3 
 Auditório B106 do CAD3 Auditório B107 do CAD3]
DTSTART;TZID=America/Sao_Paulo;VALUE=DATE-TIME:20230309T070000
DTEND;TZID=America/Sao_Paulo;VALUE=DATE-TIME:20230315T180000
DTSTAMP;VALUE=DATE-TIME:20260421T164313Z
UID:ecb556e3df2d4cc384e69581424601e1@150.164.76.86:8080
CREATED;VALUE=DATE-TIME:20230216T174014Z
DESCRIPTION:<p>Registro Acadêmico Presencial - Bancas de Heteroidentifica
 ção</p>
LAST-MODIFIED;VALUE=DATE-TIME:20230217T120318Z
URL:http://150.164.76.86:8080/cac/agenda/3914717218685627997
END:VEVENT
BEGIN:VTIMEZONE
TZID:America/Sao_Paulo
X-LIC-LOCATION:America/Sao_Paulo
BEGIN:STANDARD
DTSTART;VALUE=DATE-TIME:20230225T230000
TZNAME:BRT
TZOFFSETFROM:-0200
TZOFFSETTO:-0300
END:STANDARD
END:VTIMEZONE
END:VCALENDAR
