BEGIN:VCALENDAR
VERSION:2.0
PRODID:-//Plone.org//NONSGML plone.app.event//EN
X-WR-TIMEZONE:America/Sao_Paulo
BEGIN:VEVENT
SUMMARY:Blockchain on the road em [ Auditório B101/102 do CAD 3]
DTSTART;TZID=America/Sao_Paulo;VALUE=DATE-TIME:20250521T150000
DTEND;TZID=America/Sao_Paulo;VALUE=DATE-TIME:20250521T210000
DTSTAMP;VALUE=DATE-TIME:20260419T091153Z
UID:8c906646cb0947b09507ce505a84551c@150.164.76.86:8080
CREATED;VALUE=DATE-TIME:20250131T222520Z
DESCRIPTION:Evento satélite do evento Blockchain in Rio https://blockchai
 nrio.com.br . Blockchain on the road é uma iniciativa para promover o eve
 nto. Será realizado em 20 universidades do país\, entre Foz do Iguaçu e
  Recife\, ao longo de 2025.
LAST-MODIFIED;VALUE=DATE-TIME:20250203T135508Z
URL:http://150.164.76.86:8080/cac/agenda/3912907616915371516
END:VEVENT
BEGIN:VTIMEZONE
TZID:America/Sao_Paulo
X-LIC-LOCATION:America/Sao_Paulo
BEGIN:STANDARD
DTSTART;VALUE=DATE-TIME:20250215T230000
TZNAME:BRT
TZOFFSETFROM:-0200
TZOFFSETTO:-0300
END:STANDARD
END:VTIMEZONE
END:VCALENDAR
