BEGIN:VCALENDAR
VERSION:2.0
PRODID:-//Plone.org//NONSGML plone.app.event//EN
X-WR-TIMEZONE:America/Sao_Paulo
BEGIN:VEVENT
SUMMARY:Feriado Dia do Trabalho em [ Saguao da Reitoria Auditorio da Reito
 ria Gramado da Reitoria Entorno da Praca de Servicos Auditorio Nobre do CA
 D 1 Auditorio 1A do CAD 1 Auditorio 2A do CAD 1 Auditorio A102 do Cad 2 Au
 ditorio A104 do Cad 2 Arena da praça de serviços Auditório B302 do CAD 
 3 Auditório B101/102 do CAD 3 Auditório B301 do CAD 3]
DTSTART;TZID=America/Sao_Paulo;VALUE=DATE-TIME:20220501T000000
DTEND;TZID=America/Sao_Paulo;VALUE=DATE-TIME:20220501T230000
DTSTAMP;VALUE=DATE-TIME:20260422T063545Z
UID:7e5901e7c4884d4b8dda5607ea22620f@150.164.76.86:8080
CREATED;VALUE=DATE-TIME:20211122T144034Z
DESCRIPTION:<p>.</p>
LAST-MODIFIED;VALUE=DATE-TIME:20230111T201051Z
URL:http://150.164.76.86:8080/cac/agenda/3887830276106058305
END:VEVENT
BEGIN:VTIMEZONE
TZID:America/Sao_Paulo
X-LIC-LOCATION:America/Sao_Paulo
BEGIN:STANDARD
DTSTART;VALUE=DATE-TIME:20220219T230000
TZNAME:BRT
TZOFFSETFROM:-0200
TZOFFSETTO:-0300
END:STANDARD
END:VTIMEZONE
END:VCALENDAR
