BEGIN:VCALENDAR
VERSION:2.0
PRODID:-//Plone.org//NONSGML plone.app.event//EN
X-WR-TIMEZONE:America/Sao_Paulo
BEGIN:VEVENT
SUMMARY:Reserva Gabinete Reitora em [ Auditorio da Reitoria]
DTSTART;TZID=America/Sao_Paulo;VALUE=DATE-TIME:20240806T070000
DTEND;TZID=America/Sao_Paulo;VALUE=DATE-TIME:20240806T220000
DTSTAMP;VALUE=DATE-TIME:20260419T222511Z
UID:73da288a452d4aeaa6cd094328c874b1@150.164.76.86:8080
CREATED;VALUE=DATE-TIME:20240711T161117Z
DESCRIPTION:<p>reserva</p>
LAST-MODIFIED;VALUE=DATE-TIME:20240729T200143Z
URL:http://150.164.76.86:8080/cac/agenda/3885643637091450669
END:VEVENT
BEGIN:VTIMEZONE
TZID:America/Sao_Paulo
X-LIC-LOCATION:America/Sao_Paulo
BEGIN:STANDARD
DTSTART;VALUE=DATE-TIME:20240217T230000
TZNAME:BRT
TZOFFSETFROM:-0200
TZOFFSETTO:-0300
END:STANDARD
END:VTIMEZONE
END:VCALENDAR
