BEGIN:VCALENDAR
VERSION:2.0
PRODID:-//Plone.org//NONSGML plone.app.event//EN
X-WR-TIMEZONE:America/Sao_Paulo
BEGIN:VEVENT
SUMMARY:Feriado Independência do Brasil em [ Saguao da Reitoria Auditorio
  da Reitoria Gramado da Reitoria Entorno da Praca de Servicos Auditorio No
 bre do CAD 1 Auditorio 1A do CAD 1 Auditorio 2A do CAD 1 Auditorio A102 do
  Cad 2 Auditorio A104 do Cad 2 Arena da praça de serviços Auditório B10
 1/102 do CAD 3 Auditório B106 do CAD3 Auditório B107 do CAD3]
DTSTART;TZID=America/Sao_Paulo;VALUE=DATE-TIME:20220907T000000
DTEND;TZID=America/Sao_Paulo;VALUE=DATE-TIME:20220907T230000
DTSTAMP;VALUE=DATE-TIME:20260421T235234Z
UID:1a31b973f87a42b594236763eb9d809d@150.164.76.86:8080
CREATED;VALUE=DATE-TIME:20211122T144849Z
DESCRIPTION:<p>.</p>
LAST-MODIFIED;VALUE=DATE-TIME:20230111T201140Z
URL:http://150.164.76.86:8080/cac/agenda/3882701827911385341
END:VEVENT
BEGIN:VTIMEZONE
TZID:America/Sao_Paulo
X-LIC-LOCATION:America/Sao_Paulo
BEGIN:STANDARD
DTSTART;VALUE=DATE-TIME:20220219T230000
TZNAME:BRT
TZOFFSETFROM:-0200
TZOFFSETTO:-0300
END:STANDARD
END:VTIMEZONE
END:VCALENDAR
