BEGIN:VCALENDAR
VERSION:2.0
PRODID:-//Plone.org//NONSGML plone.app.event//EN
X-WR-TIMEZONE:America/Sao_Paulo
BEGIN:VEVENT
SUMMARY:Quarta doze e trinta e Ao Cair da tarde em [ Auditorio da Reitoria
 ]
DTSTART;TZID=America/Sao_Paulo;VALUE=DATE-TIME:20240521T080000
DTEND;TZID=America/Sao_Paulo;VALUE=DATE-TIME:20240522T200000
DTSTAMP;VALUE=DATE-TIME:20260420T032019Z
UID:bfacfb7c501143abb4eae1ef6efdaab1@150.164.76.86:8080
CREATED;VALUE=DATE-TIME:20240306T141729Z
DESCRIPTION:<p>Espetáculo teatral da Profª Sara Rojo que terá montagem 
 no dia 21/05 com iluminador e equipamentos já previstos em edital a qual 
 foi submentido.</p>
LAST-MODIFIED;VALUE=DATE-TIME:20240306T143420Z
URL:http://150.164.76.86:8080/cac/agenda/3881219550185551796
END:VEVENT
BEGIN:VTIMEZONE
TZID:America/Sao_Paulo
X-LIC-LOCATION:America/Sao_Paulo
BEGIN:STANDARD
DTSTART;VALUE=DATE-TIME:20240217T230000
TZNAME:BRT
TZOFFSETFROM:-0200
TZOFFSETTO:-0300
END:STANDARD
END:VTIMEZONE
END:VCALENDAR
