BEGIN:VCALENDAR
VERSION:2.0
PRODID:-//Plone.org//NONSGML plone.app.event//EN
X-WR-TIMEZONE:America/Sao_Paulo
BEGIN:VEVENT
SUMMARY:Semana de Orientação do Estudante Internacional 2024/1 em [ Audi
 torio da Reitoria]
DTSTART;TZID=America/Sao_Paulo;VALUE=DATE-TIME:20240228T080000
DTEND;TZID=America/Sao_Paulo;VALUE=DATE-TIME:20240228T140000
DTSTAMP;VALUE=DATE-TIME:20260420T080738Z
UID:ae4a646e8f4c48e3bd7729b16eb0c92e@150.164.76.86:8080
CREATED;VALUE=DATE-TIME:20231127T200339Z
DESCRIPTION:<p>Solicitamos reserva do auditório da Reitoria para realiza
 ção da Semana de Orientação do Estudante Internacional 2024/1. Data: 2
 8 de fevereiro de 2024. Horário: 8h às 14h.</p>
LAST-MODIFIED;VALUE=DATE-TIME:20231205T142854Z
URL:http://150.164.76.86:8080/cac/agenda/3880024073544620343
END:VEVENT
BEGIN:VTIMEZONE
TZID:America/Sao_Paulo
X-LIC-LOCATION:America/Sao_Paulo
BEGIN:STANDARD
DTSTART;VALUE=DATE-TIME:20240217T230000
TZNAME:BRT
TZOFFSETFROM:-0200
TZOFFSETTO:-0300
END:STANDARD
END:VTIMEZONE
END:VCALENDAR
