BEGIN:VCALENDAR
VERSION:2.0
PRODID:-//Plone.org//NONSGML plone.app.event//EN
X-WR-TIMEZONE:America/Sao_Paulo
BEGIN:VEVENT
SUMMARY:BANCA DE HETEROIDENTIFICAÇÃO COLTEC em [ Auditório B101/102 do 
 CAD 3 Auditório B106 do CAD3 - s/ ar condic Auditório B107 do CAD3]
DTSTART;TZID=America/Sao_Paulo;VALUE=DATE-TIME:20240119T070000
DTEND;TZID=America/Sao_Paulo;VALUE=DATE-TIME:20240119T180000
DTSTAMP;VALUE=DATE-TIME:20260420T081033Z
UID:c810ea76d6d848289a6a30abfe70e666@150.164.76.86:8080
CREATED;VALUE=DATE-TIME:20231219T132921Z
DESCRIPTION:<p>Avaliação de Heteroidentificação da Reserva de Vagas Ra
 cial  COLTEC UFMG 2024</p>
LAST-MODIFIED;VALUE=DATE-TIME:20231219T134928Z
URL:http://150.164.76.86:8080/cac/agenda/3855629680787698223
END:VEVENT
BEGIN:VTIMEZONE
TZID:America/Sao_Paulo
X-LIC-LOCATION:America/Sao_Paulo
BEGIN:DAYLIGHT
DTSTART;VALUE=DATE-TIME:20231015T010000
TZNAME:BRST
TZOFFSETFROM:-0300
TZOFFSETTO:-0200
END:DAYLIGHT
END:VTIMEZONE
END:VCALENDAR
