BEGIN:VCALENDAR
VERSION:2.0
PRODID:-//Plone.org//NONSGML plone.app.event//EN
X-WR-TIMEZONE:America/Sao_Paulo
BEGIN:VEVENT
SUMMARY:Semana do Servidor 2023 em [ Auditorio A102 do Cad 2 Auditorio A10
 4 do Cad 2 Auditorio da Reitoria]
DTSTART;TZID=America/Sao_Paulo;VALUE=DATE-TIME:20231016T070000
DTEND;TZID=America/Sao_Paulo;VALUE=DATE-TIME:20231020T220000
DTSTAMP;VALUE=DATE-TIME:20260421T015830Z
UID:82f011c3fa934273b5af5846a36a19d1@150.164.76.86:8080
CREATED;VALUE=DATE-TIME:20230425T155417Z
DESCRIPTION:<p>Evento anual</p>
LAST-MODIFIED;VALUE=DATE-TIME:20230906T184052Z
URL:http://150.164.76.86:8080/cac/agenda/3817142660815462037
END:VEVENT
BEGIN:VTIMEZONE
TZID:America/Sao_Paulo
X-LIC-LOCATION:America/Sao_Paulo
BEGIN:DAYLIGHT
DTSTART;VALUE=DATE-TIME:20231015T010000
TZNAME:BRST
TZOFFSETFROM:-0300
TZOFFSETTO:-0200
END:DAYLIGHT
END:VTIMEZONE
END:VCALENDAR
