BEGIN:VCALENDAR
VERSION:2.0
PRODID:-//Plone.org//NONSGML plone.app.event//EN
X-WR-TIMEZONE:America/Sao_Paulo
BEGIN:VEVENT
SUMMARY:Domingo no Campus em [ Arena da praça de serviços]
DTSTART;TZID=America/Sao_Paulo;VALUE=DATE-TIME:20200607T080000
DTEND;TZID=America/Sao_Paulo;VALUE=DATE-TIME:20200607T140000
DTSTAMP;VALUE=DATE-TIME:20260424T221617Z
UID:0b3ea5a10fb04a27a732d0c234b36320@150.164.76.86:8080
CREATED;VALUE=DATE-TIME:20200102T141917Z
DESCRIPTION:<p>solicitação conforme pedido da Coordenadora da CAC Cássi
 a monteiro</p>
LAST-MODIFIED;VALUE=DATE-TIME:20200102T144010Z
URL:http://150.164.76.86:8080/cac/agenda/3815566273450469456
END:VEVENT
BEGIN:VTIMEZONE
TZID:America/Sao_Paulo
X-LIC-LOCATION:America/Sao_Paulo
BEGIN:STANDARD
DTSTART;VALUE=DATE-TIME:20200215T230000
TZNAME:BRT
TZOFFSETFROM:-0200
TZOFFSETTO:-0300
END:STANDARD
END:VTIMEZONE
END:VCALENDAR
