BEGIN:VCALENDAR
VERSION:2.0
PRODID:-//Plone.org//NONSGML plone.app.event//EN
X-WR-TIMEZONE:America/Sao_Paulo
BEGIN:VEVENT
SUMMARY:Colação de grau oficial em [ Auditorio Nobre do CAD 1]
DTSTART;TZID=America/Sao_Paulo;VALUE=DATE-TIME:20230728T140000
DTEND;TZID=America/Sao_Paulo;VALUE=DATE-TIME:20230728T180000
DTSTAMP;VALUE=DATE-TIME:20260421T102830Z
UID:a7ee70ff55354ed18b8c20a60a2df742@150.164.76.86:8080
CREATED;VALUE=DATE-TIME:20230209T173527Z
DESCRIPTION:<p>Colação de grau oficial do Curso de Ciências Biológicas
  semestre 01/2023.</p>
LAST-MODIFIED;VALUE=DATE-TIME:20230623T123657Z
URL:http://150.164.76.86:8080/cac/agenda/38104896996166925
END:VEVENT
BEGIN:VTIMEZONE
TZID:America/Sao_Paulo
X-LIC-LOCATION:America/Sao_Paulo
BEGIN:STANDARD
DTSTART;VALUE=DATE-TIME:20230225T230000
TZNAME:BRT
TZOFFSETFROM:-0200
TZOFFSETTO:-0300
END:STANDARD
END:VTIMEZONE
END:VCALENDAR
