BEGIN:VCALENDAR
VERSION:2.0
PRODID:-//Plone.org//NONSGML plone.app.event//EN
X-WR-TIMEZONE:America/Sao_Paulo
BEGIN:VEVENT
SUMMARY:Ensaio Colação de Grau FALE em [ Auditorio Nobre do CAD 1]
DTSTART;TZID=America/Sao_Paulo;VALUE=DATE-TIME:20220912T180000
DTEND;TZID=America/Sao_Paulo;VALUE=DATE-TIME:20220912T210000
DTSTAMP;VALUE=DATE-TIME:20260422T012636Z
UID:ed09dab010e14cdfa8f80e1b5b1f42dc@150.164.76.86:8080
CREATED;VALUE=DATE-TIME:20220809T153739Z
DESCRIPTION:Por ser apenas o ensaio\, não será necessário microfone. No
  entanto\, precisamos executar algumas músicas em momentos diferentes. Se
 ndo assim\, será necessário a presença de um técnico de som.
LAST-MODIFIED;VALUE=DATE-TIME:20220809T173931Z
URL:http://150.164.76.86:8080/cac/agenda/3796499415507646333
END:VEVENT
BEGIN:VTIMEZONE
TZID:America/Sao_Paulo
X-LIC-LOCATION:America/Sao_Paulo
BEGIN:STANDARD
DTSTART;VALUE=DATE-TIME:20220219T230000
TZNAME:BRT
TZOFFSETFROM:-0200
TZOFFSETTO:-0300
END:STANDARD
END:VTIMEZONE
END:VCALENDAR
