BEGIN:VCALENDAR
VERSION:2.0
PRODID:-//Plone.org//NONSGML plone.app.event//EN
X-WR-TIMEZONE:America/Sao_Paulo
BEGIN:VEVENT
SUMMARY:V Simposio Nacional em Ciências Farmacêuticas  e XIV Encontro Na
 cional de Professores de Química Farmacêutica e Medicinal em [ Auditóri
 o B101/102 do CAD 3 Auditório B106 do CAD3 Auditório B107 do CAD3]
DTSTART;TZID=America/Sao_Paulo;VALUE=DATE-TIME:20230821T070000
DTEND;TZID=America/Sao_Paulo;VALUE=DATE-TIME:20230825T200000
DTSTAMP;VALUE=DATE-TIME:20260421T102953Z
UID:20ee8f63982243e2bfc9002345e2b06b@150.164.76.86:8080
CREATED;VALUE=DATE-TIME:20221128T224232Z
DESCRIPTION:<p>O Simpósio Nacional em Ciências Farmacêuticas - SINCIFAR
  é um evento científico\, de caráter bienal\, organizado pelos discente
 s do Programa de Pós-graduação em Ciências Farmacêuticas (PPGCF) da U
 niversidade Federal de Minas Gerais (UFMG)\, com apoio do corpo docente\, 
 do PPGCF e da Diretoria da Faculdade de Farmácia da UFMG. Iniciamos a org
 anização da quinta edição do evento a ser realizado nos dias 16\, 17 e
  18 de agosto de 2023\, que trará em sua programação palestras\, minicu
 rsos\, oficinas e mesas redondas abordando temas atuais e de grande intere
 sse na área de Ciências Farmacêuticas. O evento tem uma estimativa de a
 proximadamente 250 participantes\, entre estudantes de graduação e pós-
 graduação\, professores\, pesquisadores de Universidades e profissionais
  envolvidos na área das Ciências Farmacêuticas\, de diferentes regiões
  do país. Para tanto\, precisaremos dos seguintes espaços físicos: 16/0
 8: 1 Auditório com capacidade para 250 pessoas de 9 às 10:30h\; 4 salas 
 com capacidade para 80 pessoas de 10:30 às 18:00h\, espaço para coffee-b
 reak para 250 pessoas 17/08: 2 auditórios com capacidade para 150 pessoas
  disponível de 9 às 18h\, espaço para exposição de banners\, espaço 
 para coffee-break para 250 pessoas 18/08: 2 auditórios com capacidade par
 a 150 pessoas de 9 às 17 h\, 1 auditório com capacidade para 250 pessoas
  de 17h às 19:00h\; espaço para exposição de banners\, espaço para co
 ffee-break para 250 pessoas.</p>\n<p><span>XIV Encontro Nacional de Profes
 sores de Química Farmacêutica e Medicinal: <span> </span><span>O Encon
 tro terá como tema "Perspectivas e Impacto da Química Medicinal na Forma
 ção do Profissional Farmacêutico” e será de grande importância para
  a discussão dos diversos temas abordados na disciplina\, troca de conhec
 imentos e divulgação de trabalhos de ensino\, extensão e pesquisa na á
 rea\, buscando aprimorar cada vez mais a qualidade do ensino e o despertar
  do interesse dos estudantes pela fascinante área da Química Farmacêuti
 ca. </span></span>Com o objetivo de discutir e aperfeiçoar o ensino de Q
 uímica Farmacêutica e Medicinal em nível nacional e apresentar os resul
 tados mais recentes relativos aos trabalhos de pesquisa e extensão desenv
 olvidos na área\, o Evento contará com a participação de renomados pro
 fessores e pesquisadores. Desta forma\, esperamos contribuir para fortalec
 er as cooperações já existentes e estimular novas cooperações entre o
 s professores de Química Farmacêutica e Medicinal.</p>\n<p>OBS: RESERVA 
 CONFIRMADA SEM ATENDIMENTO TÉCNICO AUDIOVISUAL DA CAC.</p>
LAST-MODIFIED;VALUE=DATE-TIME:20230714T132156Z
URL:http://150.164.76.86:8080/cac/agenda/3769663722413333956
END:VEVENT
BEGIN:VTIMEZONE
TZID:America/Sao_Paulo
X-LIC-LOCATION:America/Sao_Paulo
BEGIN:STANDARD
DTSTART;VALUE=DATE-TIME:20230225T230000
TZNAME:BRT
TZOFFSETFROM:-0200
TZOFFSETTO:-0300
END:STANDARD
END:VTIMEZONE
END:VCALENDAR
