BEGIN:VCALENDAR
VERSION:2.0
PRODID:-//Plone.org//NONSGML plone.app.event//EN
X-WR-TIMEZONE:America/Sao_Paulo
BEGIN:VEVENT
SUMMARY:ENEM em [ Auditorio da Reitoria Saguao da Reitoria Gramado da Reit
 oria Arena da praça de serviços Entorno da Praca de Servicos Auditorio 1
 A do CAD 1 Auditorio 2A do CAD 1 Auditório B101/102 do CAD 3 Auditório B
 106 do CAD3 Auditório B107 do CAD3 Auditório B301 do CAD 3 Auditório B3
 02 do CAD 3 Auditório B306 do CAD3 Outros espacos Auditorio Nobre do CAD 
 1 Auditorio A102 do Cad 2 Auditorio A104 do Cad 2]
DTSTART;TZID=America/Sao_Paulo;VALUE=DATE-TIME:20241103T070000
DTEND;TZID=America/Sao_Paulo;VALUE=DATE-TIME:20241103T210000
DTSTAMP;VALUE=DATE-TIME:20260419T163618Z
UID:ba508321d621467987811076367327b4@150.164.76.86:8080
CREATED;VALUE=DATE-TIME:20240527T165505Z
DESCRIPTION:<p>ENEM</p>
LAST-MODIFIED;VALUE=DATE-TIME:20240701T174303Z
URL:http://150.164.76.86:8080/cac/agenda/3767527370371983619
END:VEVENT
BEGIN:VTIMEZONE
TZID:America/Sao_Paulo
X-LIC-LOCATION:America/Sao_Paulo
BEGIN:DAYLIGHT
DTSTART;VALUE=DATE-TIME:20241020T010000
TZNAME:BRST
TZOFFSETFROM:-0300
TZOFFSETTO:-0200
END:DAYLIGHT
END:VTIMEZONE
END:VCALENDAR
