BEGIN:VCALENDAR
VERSION:2.0
PRODID:-//Plone.org//NONSGML plone.app.event//EN
X-WR-TIMEZONE:America/Sao_Paulo
BEGIN:VEVENT
SUMMARY:Concurso público Defensoria Pública - cargo defensor público em
  [ Auditorio Nobre do CAD 1 Auditorio 1A do CAD 1 Auditorio 2A do CAD 1 Au
 ditorio A102 do Cad 2 Auditorio A104 do Cad 2 Auditório B101/102 do CAD 3
  Auditório B106 do CAD3 Auditório B107 do CAD3 Auditório B301 do CAD 3 
 Auditório B302 do CAD 3]
DTSTART;TZID=America/Sao_Paulo;VALUE=DATE-TIME:20231209T070000
DTEND;TZID=America/Sao_Paulo;VALUE=DATE-TIME:20231210T200000
DTSTAMP;VALUE=DATE-TIME:20260420T114406Z
UID:01f3578d171e48d88fb9f9406b0ef556@150.164.76.86:8080
CREATED;VALUE=DATE-TIME:20230807T192354Z
DESCRIPTION:<p>concurso público</p>
LAST-MODIFIED;VALUE=DATE-TIME:20230807T192437Z
URL:http://150.164.76.86:8080/cac/agenda/3761449360068980086
END:VEVENT
BEGIN:VTIMEZONE
TZID:America/Sao_Paulo
X-LIC-LOCATION:America/Sao_Paulo
BEGIN:DAYLIGHT
DTSTART;VALUE=DATE-TIME:20231015T010000
TZNAME:BRST
TZOFFSETFROM:-0300
TZOFFSETTO:-0200
END:DAYLIGHT
END:VTIMEZONE
END:VCALENDAR
