BEGIN:VCALENDAR
VERSION:2.0
PRODID:-//Plone.org//NONSGML plone.app.event//EN
X-WR-TIMEZONE:America/Sao_Paulo
BEGIN:VEVENT
SUMMARY:Colação de Grau solene do curso Letras-Libras em [ Auditorio A10
 2 do Cad 2 Auditorio A104 do Cad 2]
DTSTART;TZID=America/Sao_Paulo;VALUE=DATE-TIME:20240822T170000
DTEND;TZID=America/Sao_Paulo;VALUE=DATE-TIME:20240822T220000
DTSTAMP;VALUE=DATE-TIME:20260419T222910Z
UID:bac3cbd11d3346e29d13b31e2b43ee09@150.164.76.86:8080
CREATED;VALUE=DATE-TIME:20240305T201357Z
DESCRIPTION:Cerimônia solene e oficial de colação de grau da 1ª turma 
 do curso de graduação em Letras-Libras da UFMG.
LAST-MODIFIED;VALUE=DATE-TIME:20240611T181903Z
URL:http://150.164.76.86:8080/cac/agenda/3724264463161474520
END:VEVENT
BEGIN:VTIMEZONE
TZID:America/Sao_Paulo
X-LIC-LOCATION:America/Sao_Paulo
BEGIN:STANDARD
DTSTART;VALUE=DATE-TIME:20240217T230000
TZNAME:BRT
TZOFFSETFROM:-0200
TZOFFSETTO:-0300
END:STANDARD
END:VTIMEZONE
END:VCALENDAR
