BEGIN:VCALENDAR
VERSION:2.0
PRODID:-//Plone.org//NONSGML plone.app.event//EN
X-WR-TIMEZONE:America/Sao_Paulo
BEGIN:VEVENT
SUMMARY:Seminários avançados de Pós-Graduação - PPGCC - DCC/ICEx em [
  Auditório B107 do CAD3]
DTSTART;TZID=America/Sao_Paulo;VALUE=DATE-TIME:20250411T100000
DTEND;TZID=America/Sao_Paulo;VALUE=DATE-TIME:20250411T123000
DTSTAMP;VALUE=DATE-TIME:20260419T105324Z
UID:2de2a7d0b9c240edacdb1362811086dc@150.164.76.86:8080
CREATED;VALUE=DATE-TIME:20250403T163849Z
DESCRIPTION:Seminários Avançados de Pós-Graduação\n\nProf. Antônio-C
 arlos Guimarães de Almeida - UFSJ\nTítulo: "Novos rumos para a inteligê
 ncia artificial - o cérebro como modelo"\n\nnotebook\, retroprojetor\, te
 la\, microfone
LAST-MODIFIED;VALUE=DATE-TIME:20250403T164901Z
URL:http://150.164.76.86:8080/cac/agenda/3710268081993810806
END:VEVENT
BEGIN:VTIMEZONE
TZID:America/Sao_Paulo
X-LIC-LOCATION:America/Sao_Paulo
BEGIN:STANDARD
DTSTART;VALUE=DATE-TIME:20250215T230000
TZNAME:BRT
TZOFFSETFROM:-0200
TZOFFSETTO:-0300
END:STANDARD
END:VTIMEZONE
END:VCALENDAR
