BEGIN:VCALENDAR
VERSION:2.0
PRODID:-//Plone.org//NONSGML plone.app.event//EN
X-WR-TIMEZONE:America/Sao_Paulo
BEGIN:VEVENT
SUMMARY:MERCADO DAS PULGA em [ Em torno da Praca de Servicos]
DTSTART;TZID=America/Sao_Paulo;VALUE=DATE-TIME:20200810T080000
DTEND;TZID=America/Sao_Paulo;VALUE=DATE-TIME:20200814T170000
DTSTAMP;VALUE=DATE-TIME:20260424T195020Z
UID:ce7166baca2d481683371ff03abba3dd@150.164.76.86:8080
CREATED;VALUE=DATE-TIME:20200211T131142Z
DESCRIPTION:Não precisamos de equipamento. Apenas de 90 paineis
LAST-MODIFIED;VALUE=DATE-TIME:20200213T142819Z
URL:http://150.164.76.86:8080/cac/agenda/370937623164299537
END:VEVENT
BEGIN:VTIMEZONE
TZID:America/Sao_Paulo
X-LIC-LOCATION:America/Sao_Paulo
BEGIN:STANDARD
DTSTART;VALUE=DATE-TIME:20200215T230000
TZNAME:BRT
TZOFFSETFROM:-0200
TZOFFSETTO:-0300
END:STANDARD
END:VTIMEZONE
END:VCALENDAR
