BEGIN:VCALENDAR
VERSION:2.0
PRODID:-//Plone.org//NONSGML plone.app.event//EN
X-WR-TIMEZONE:America/Sao_Paulo
BEGIN:VEVENT
SUMMARY:Tópicos em Filosofia em [ Auditorio A104 do Cad 2]
DTSTART;TZID=America/Sao_Paulo;VALUE=DATE-TIME:20230825T130000
DTEND;TZID=America/Sao_Paulo;VALUE=DATE-TIME:20230825T180000
DTSTAMP;VALUE=DATE-TIME:20260421T091006Z
UID:fd76d82860654aa29b39278ac30d346a@150.164.76.86:8080
CREATED;VALUE=DATE-TIME:20230629T125534Z
DESCRIPTION:<p>Tópicos em Filosofia. OBS: Modo aula</p>
LAST-MODIFIED;VALUE=DATE-TIME:20230703T143224Z
URL:http://150.164.76.86:8080/cac/agenda/369461328549974720
END:VEVENT
BEGIN:VTIMEZONE
TZID:America/Sao_Paulo
X-LIC-LOCATION:America/Sao_Paulo
BEGIN:STANDARD
DTSTART;VALUE=DATE-TIME:20230225T230000
TZNAME:BRT
TZOFFSETFROM:-0200
TZOFFSETTO:-0300
END:STANDARD
END:VTIMEZONE
END:VCALENDAR
