BEGIN:VCALENDAR
VERSION:2.0
PRODID:-//Plone.org//NONSGML plone.app.event//EN
X-WR-TIMEZONE:America/Sao_Paulo
BEGIN:VEVENT
SUMMARY:Recepção os professores recém contratados 2022/2023 em [ Audit
 ório B107 do CAD3]
DTSTART;TZID=America/Sao_Paulo;VALUE=DATE-TIME:20230531T090000
DTEND;TZID=America/Sao_Paulo;VALUE=DATE-TIME:20230531T130000
DTSTAMP;VALUE=DATE-TIME:20260421T132809Z
UID:3b3abec6426c480bbcd7cca99234bca6@150.164.76.86:8080
CREATED;VALUE=DATE-TIME:20230418T130300Z
DESCRIPTION:<p>Recepção para os docentes que ingressaram na universidade
  no período de janeiro de 2022 a março 2023. Data: 31/05/2023 (quarta-fe
 ira) Hora: de 9h ás 13h Local: Auditório B107 - abertura e recepção + 
 04 Salas 206/207/208 e 211 de 11h10 às 12h50 - oficina com os docentes. P
 úblico Alvo: 100 pessoas Participação/abertura: Reitora e Pró-Reitores
  de Graduação A equipe do GIZ que está organizando o evento. O evento s
 erá transmitido somente para o Instituto de Ciências Agrárias - ICA - p
 recisamos do suporte técnico da CAC.</p>
LAST-MODIFIED;VALUE=DATE-TIME:20230505T172038Z
URL:http://150.164.76.86:8080/cac/agenda/3687049732953752900
END:VEVENT
BEGIN:VTIMEZONE
TZID:America/Sao_Paulo
X-LIC-LOCATION:America/Sao_Paulo
BEGIN:STANDARD
DTSTART;VALUE=DATE-TIME:20230225T230000
TZNAME:BRT
TZOFFSETFROM:-0200
TZOFFSETTO:-0300
END:STANDARD
END:VTIMEZONE
END:VCALENDAR
