BEGIN:VCALENDAR
VERSION:2.0
PRODID:-//Plone.org//NONSGML plone.app.event//EN
X-WR-TIMEZONE:America/Sao_Paulo
BEGIN:VEVENT
SUMMARY:Protagonismo da UFMG na pesquisa sobre covid-19 em [ Auditorio da 
 Reitoria]
DTSTART;TZID=America/Sao_Paulo;VALUE=DATE-TIME:20221103T140000
DTEND;TZID=America/Sao_Paulo;VALUE=DATE-TIME:20221103T160000
DTSTAMP;VALUE=DATE-TIME:20260421T204449Z
UID:574283bc3da747e68b5953350a0159b0@150.164.76.86:8080
CREATED;VALUE=DATE-TIME:20221014T144323Z
DESCRIPTION:<p>Promoção: Pró-Reitoria de Pesquisa Título: Protagonismo
  da UFMG na Pesquisa Sobre Covid-19 Data: Quinta-Feira 03 de novembro de 2
 022\, 14 às 16:00 – Auditório da Reitoria Programação: 14:00 Abertur
 a da Reitora. 14:10 Entrega de certificados a autores principais de artigo
 s sobre o tema Covid-19 publicados nas revistas Nature\, Science\, PNAS e 
 The Lancet e/ou citados mais de 100 vezes em 2 anos: · Ana Cristina Simõ
 es e Silva\, do Departamento de Pediatria\, Faculdade de Medicina · Débo
 ra Marques de Miranda\, do Departamento de Pediatria\, Faculdade de Medici
 na · Dirceu Bartolomeu Greco\, Professor Emérito e docente do Programa d
 e Pós-Graduação em Infectologia e Medicina Tropical da UFMG · Eduardo 
 Araújo de Oliveira\, do Departamento de Pediatria\, Faculdade de Medicina
  Aulas Magistrais de pesquisadores da UFMG que coordenaram estudos e publi
 caram trabalhos de grande impacto sobre a Covid-19 em cinco áreas: 14:20 
 Pesquisa sobre Genômica Viral do SARS-Cov2 Professor Renato Santana de Ag
 uiar\, do Departamento de Genética\, Ecologia e Evolução\, Instituto de
  Ciências Biológicas. 14:40 Pesquisa em Bioinformática sobre a Covid-19
  Professora Marta Giovanetti\, do Programa de Pós-Graduação em Bioinfor
 mática da UFMG. 15:00 Pesquisa em Epidemiologia da Covid-19 Professora De
 borah Carvalho Malta\, do Departamento de Enfermagem Materno-Infantil e Sa
 úde Pública\, Escola de Enfermagem. 15:20 Pesquisa em Vacinas anti-Covid
 -19 Professor Ricardo Tostes Gazzinelli\, do Departamento de Bioquímica e
  Imunologia\, Instituto de Ciências Biológicas 15:40 Pesquisa em Assist
 ência e Tratamento da Covid-19 Professora Milena Soriano Marcolino\, do D
 epartamento de Clínica Médica\, Faculdade de Medicina. 16:00 Encerrament
 o SOLICITAÇÃO: - Reserva auditório\, NAI e CAC (participação presenci
 al e remota de convidados\, gravação para disponibilização Youtube PRP
 q) - Kit divulgação (email mkt\, banner minha\, Youtube\, fundo tela\, e
 tc) - Sugestão de pauta.</p>
LAST-MODIFIED;VALUE=DATE-TIME:20221025T140456Z
URL:http://150.164.76.86:8080/cac/agenda/3685479248886026317
END:VEVENT
BEGIN:VTIMEZONE
TZID:America/Sao_Paulo
X-LIC-LOCATION:America/Sao_Paulo
BEGIN:DAYLIGHT
DTSTART;VALUE=DATE-TIME:20221016T010000
TZNAME:BRST
TZOFFSETFROM:-0300
TZOFFSETTO:-0200
END:DAYLIGHT
END:VTIMEZONE
END:VCALENDAR
