BEGIN:VCALENDAR
VERSION:2.0
PRODID:-//Plone.org//NONSGML plone.app.event//EN
X-WR-TIMEZONE:America/Sao_Paulo
BEGIN:VEVENT
SUMMARY:International Human Resource Management em [ Auditório B106 do CA
 D3]
DTSTART;TZID=America/Sao_Paulo;VALUE=DATE-TIME:20240412T113000
DTEND;TZID=America/Sao_Paulo;VALUE=DATE-TIME:20240412T133000
DTSTAMP;VALUE=DATE-TIME:20260420T044740Z
UID:7d7ee3989332423893c8b847f423a100@150.164.76.86:8080
CREATED;VALUE=DATE-TIME:20240405T181200Z
DESCRIPTION:Será necessário projeção e microfone.
LAST-MODIFIED;VALUE=DATE-TIME:20240409T123651Z
URL:http://150.164.76.86:8080/cac/agenda/3683750419269939335
END:VEVENT
BEGIN:VTIMEZONE
TZID:America/Sao_Paulo
X-LIC-LOCATION:America/Sao_Paulo
BEGIN:STANDARD
DTSTART;VALUE=DATE-TIME:20240217T230000
TZNAME:BRT
TZOFFSETFROM:-0200
TZOFFSETTO:-0300
END:STANDARD
END:VTIMEZONE
END:VCALENDAR
