BEGIN:VCALENDAR
VERSION:2.0
PRODID:-//Plone.org//NONSGML plone.app.event//EN
X-WR-TIMEZONE:America/Sao_Paulo
BEGIN:VEVENT
SUMMARY:Motirõ - Programa de Desenvolvimento de Negócios de Impacto Soci
 al e Ambiental em [ Auditório B106 do CAD3]
DTSTART;TZID=America/Sao_Paulo;VALUE=DATE-TIME:20241104T164500
DTEND;TZID=America/Sao_Paulo;VALUE=DATE-TIME:20241104T182500
DTSTAMP;VALUE=DATE-TIME:20260419T175358Z
UID:cd89322d767841a08ed6d294b5a1dc40@150.164.76.86:8080
CREATED;VALUE=DATE-TIME:20241023T193428Z
DESCRIPTION:<p>Estamos organizando aulas teóricas sobre negócios de impa
 cto para o Projeto de Extensão Motirõ\, a serem realizadas em um dos aud
 itórios solicitados todas as segundas-feiras\, das 16:45 às 18:25\, do d
 ia 04/11 até 27/01 (excluindo as segundas-feiras de 16/12 a 06/01). Neces
 sitamos de um projetor funcionando para as apresentações. Também estamo
 s avaliando a possibilidade de transmitir o evento para que os membros da 
 comunidade acadêmica da UFMG de Montes Claros possam participar\, caso a 
 estrutura permita. Caso ambos os auditórios solicitados não estejam disp
 oníveis\, gostaríamos de solicitar a avaliação de outros auditórios c
 om capacidade para mais de 120 pessoas.</p>
LAST-MODIFIED;VALUE=DATE-TIME:20241031T095449Z
URL:http://150.164.76.86:8080/cac/agenda/368246734172819071
END:VEVENT
BEGIN:VTIMEZONE
TZID:America/Sao_Paulo
X-LIC-LOCATION:America/Sao_Paulo
BEGIN:DAYLIGHT
DTSTART;VALUE=DATE-TIME:20241020T010000
TZNAME:BRST
TZOFFSETFROM:-0300
TZOFFSETTO:-0200
END:DAYLIGHT
END:VTIMEZONE
END:VCALENDAR
