BEGIN:VCALENDAR
VERSION:2.0
PRODID:-//Plone.org//NONSGML plone.app.event//EN
X-WR-TIMEZONE:America/Sao_Paulo
BEGIN:VEVENT
SUMMARY:Exibição de filmes Improvisação II - Curso de Teatro EBA/UFMG 
 em [ Auditorio A102 do Cad 2 Auditorio A104 do Cad 2]
DTSTART;TZID=America/Sao_Paulo;VALUE=DATE-TIME:20230529T140000
DTEND;TZID=America/Sao_Paulo;VALUE=DATE-TIME:20230529T163000
DTSTAMP;VALUE=DATE-TIME:20260421T132921Z
UID:fac3d372942e45b5bb2db6de5a84f07b@150.164.76.86:8080
CREATED;VALUE=DATE-TIME:20230321T163006Z
DESCRIPTION:Atividade de exibição de filmes para estudantes da disciplin
 a Improvisação II. Essa atividade vem sendo realizada semestralmente des
 de 2021/2. Os técnicos do CAD deixam o sistema de áudio e vídeo funcion
 ando e nós temos um monitor que faz o assessoramento técnico da atividad
 e.
LAST-MODIFIED;VALUE=DATE-TIME:20230322T172933Z
URL:http://150.164.76.86:8080/cac/agenda/3680596412296881422
END:VEVENT
BEGIN:VTIMEZONE
TZID:America/Sao_Paulo
X-LIC-LOCATION:America/Sao_Paulo
BEGIN:STANDARD
DTSTART;VALUE=DATE-TIME:20230225T230000
TZNAME:BRT
TZOFFSETFROM:-0200
TZOFFSETTO:-0300
END:STANDARD
END:VTIMEZONE
END:VCALENDAR
