BEGIN:VCALENDAR
VERSION:2.0
PRODID:-//Plone.org//NONSGML plone.app.event//EN
X-WR-TIMEZONE:America/Sao_Paulo
BEGIN:VEVENT
SUMMARY:Exame proficiência Língua Estrangeira Coltec 2023 - etapa 2 em [
  Auditorio Nobre do CAD 1]
DTSTART;TZID=America/Sao_Paulo;VALUE=DATE-TIME:20230207T070000
DTEND;TZID=America/Sao_Paulo;VALUE=DATE-TIME:20230207T120000
DTSTAMP;VALUE=DATE-TIME:20260421T163225Z
UID:ad640b1571eb436c8f451a821478a1af@150.164.76.86:8080
CREATED;VALUE=DATE-TIME:20221024T180414Z
DESCRIPTION:Aplicação teste proficiência língua estrangeira etapa 2\, 
 alunos ingressantes em 2023.
LAST-MODIFIED;VALUE=DATE-TIME:20230206T170143Z
URL:http://150.164.76.86:8080/cac/agenda/3675981707196616774
END:VEVENT
BEGIN:VTIMEZONE
TZID:America/Sao_Paulo
X-LIC-LOCATION:America/Sao_Paulo
BEGIN:DAYLIGHT
DTSTART;VALUE=DATE-TIME:20221016T010000
TZNAME:BRST
TZOFFSETFROM:-0300
TZOFFSETTO:-0200
END:DAYLIGHT
END:VTIMEZONE
END:VCALENDAR
