BEGIN:VCALENDAR
VERSION:2.0
PRODID:-//Plone.org//NONSGML plone.app.event//EN
X-WR-TIMEZONE:America/Sao_Paulo
BEGIN:VEVENT
SUMMARY:Feira de Artesanato do Jequitinhonha em [ Em torno da Praca de Ser
 vicos]
DTSTART;TZID=America/Sao_Paulo;VALUE=DATE-TIME:20220906T070000
DTEND;TZID=America/Sao_Paulo;VALUE=DATE-TIME:20220906T190000
DTSTAMP;VALUE=DATE-TIME:20260421T234953Z
UID:f7123b6ebb4041b5b19e59600708351d@150.164.76.86:8080
CREATED;VALUE=DATE-TIME:20220704T202359Z
DESCRIPTION:Montagem Feira do Jequitinhonha
LAST-MODIFIED;VALUE=DATE-TIME:20220706T142248Z
URL:http://150.164.76.86:8080/cac/agenda/3673386462492850081
END:VEVENT
BEGIN:VTIMEZONE
TZID:America/Sao_Paulo
X-LIC-LOCATION:America/Sao_Paulo
BEGIN:STANDARD
DTSTART;VALUE=DATE-TIME:20220219T230000
TZNAME:BRT
TZOFFSETFROM:-0200
TZOFFSETTO:-0300
END:STANDARD
END:VTIMEZONE
END:VCALENDAR
