BEGIN:VCALENDAR
VERSION:2.0
PRODID:-//Plone.org//NONSGML plone.app.event//EN
X-WR-TIMEZONE:America/Sao_Paulo
BEGIN:VEVENT
SUMMARY:Posse Reitoria em [ Saguao da Reitoria Auditorio da Reitoria Grama
 do da Reitoria Entorno da Praca de Servicos Auditorio Nobre do CAD 1 Audit
 orio 1A do CAD 1 Auditorio 2A do CAD 1 Outros espacos Arena da praça de s
 erviços Auditório B302 do CAD 3 Auditório B101/102 do CAD 3 Auditório 
 B301 do CAD 3]
DTSTART;TZID=America/Sao_Paulo;VALUE=DATE-TIME:20220323T060000
DTEND;TZID=America/Sao_Paulo;VALUE=DATE-TIME:20220323T230000
DTSTAMP;VALUE=DATE-TIME:20260422T111514Z
UID:dd1c334dfcf949acb9d9d46ae1ba0a2e@150.164.76.86:8080
CREATED;VALUE=DATE-TIME:20220209T140433Z
DESCRIPTION:<p>Posse da Reitoria</p>
LAST-MODIFIED;VALUE=DATE-TIME:20230111T201055Z
URL:http://150.164.76.86:8080/cac/agenda/3672584434764908181
END:VEVENT
BEGIN:VTIMEZONE
TZID:America/Sao_Paulo
X-LIC-LOCATION:America/Sao_Paulo
BEGIN:STANDARD
DTSTART;VALUE=DATE-TIME:20220219T230000
TZNAME:BRT
TZOFFSETFROM:-0200
TZOFFSETTO:-0300
END:STANDARD
END:VTIMEZONE
END:VCALENDAR
