BEGIN:VCALENDAR
VERSION:2.0
PRODID:-//Plone.org//NONSGML plone.app.event//EN
X-WR-TIMEZONE:America/Sao_Paulo
BEGIN:VEVENT
SUMMARY:Aula inaugural estudantes Coltec em [ Auditorio Nobre do CAD 1]
DTSTART;TZID=America/Sao_Paulo;VALUE=DATE-TIME:20220322T090000
DTEND;TZID=America/Sao_Paulo;VALUE=DATE-TIME:20220322T110000
DTSTAMP;VALUE=DATE-TIME:20260422T111514Z
UID:e62f85f3352544dcadc66b3b94e10cc0@150.164.76.86:8080
CREATED;VALUE=DATE-TIME:20220126T182901Z
DESCRIPTION:Palestra de abertura do ano letivo de 2022 para os estudantes 
 novatos e veteranos. Pretende-se que a reunião ocorra em formato híbrido
 : presencial com transmissão online.
LAST-MODIFIED;VALUE=DATE-TIME:20220131T143002Z
URL:http://150.164.76.86:8080/cac/agenda/3662128570164148276
END:VEVENT
BEGIN:VTIMEZONE
TZID:America/Sao_Paulo
X-LIC-LOCATION:America/Sao_Paulo
BEGIN:STANDARD
DTSTART;VALUE=DATE-TIME:20220219T230000
TZNAME:BRT
TZOFFSETFROM:-0200
TZOFFSETTO:-0300
END:STANDARD
END:VTIMEZONE
END:VCALENDAR
