BEGIN:VCALENDAR
VERSION:2.0
PRODID:-//Plone.org//NONSGML plone.app.event//EN
X-WR-TIMEZONE:America/Sao_Paulo
BEGIN:VEVENT
SUMMARY:AULA: Atenção Integral ao Adolescente em [ Outros espacos]
DTSTART;TZID=America/Sao_Paulo;VALUE=DATE-TIME:20230814T130000
DTEND;TZID=America/Sao_Paulo;VALUE=DATE-TIME:20230814T190000
DTSTAMP;VALUE=DATE-TIME:20260421T091353Z
UID:fe6ae417319a4fc488e9707340014ab8@150.164.76.86:8080
CREATED;VALUE=DATE-TIME:20230728T153454Z
DESCRIPTION:<p>Aula única - atendimento pela equipe de TI do CAD3</p>
LAST-MODIFIED;VALUE=DATE-TIME:20230728T153517Z
URL:http://150.164.76.86:8080/cac/agenda/3646177899178541113
END:VEVENT
BEGIN:VTIMEZONE
TZID:America/Sao_Paulo
X-LIC-LOCATION:America/Sao_Paulo
BEGIN:STANDARD
DTSTART;VALUE=DATE-TIME:20230225T230000
TZNAME:BRT
TZOFFSETFROM:-0200
TZOFFSETTO:-0300
END:STANDARD
END:VTIMEZONE
END:VCALENDAR
