BEGIN:VCALENDAR
VERSION:2.0
PRODID:-//Plone.org//NONSGML plone.app.event//EN
X-WR-TIMEZONE:America/Sao_Paulo
BEGIN:VEVENT
SUMMARY:Feira da UFMG em [ Entorno da Praca de Servicos]
DTSTART;TZID=America/Sao_Paulo;VALUE=DATE-TIME:20231108T060000
DTEND;TZID=America/Sao_Paulo;VALUE=DATE-TIME:20231108T180000
DTSTAMP;VALUE=DATE-TIME:20260420T131511Z
UID:e035598eaedd4e4296bc0a61ae61dcb5@150.164.76.86:8080
CREATED;VALUE=DATE-TIME:20230206T205828Z
DESCRIPTION:Não serão necessários equipamentos e serviços adicionais.
LAST-MODIFIED;VALUE=DATE-TIME:20230207T174405Z
URL:http://150.164.76.86:8080/cac/agenda/364184800778368088
END:VEVENT
BEGIN:VTIMEZONE
TZID:America/Sao_Paulo
X-LIC-LOCATION:America/Sao_Paulo
BEGIN:DAYLIGHT
DTSTART;VALUE=DATE-TIME:20231015T010000
TZNAME:BRST
TZOFFSETFROM:-0300
TZOFFSETTO:-0200
END:DAYLIGHT
END:VTIMEZONE
END:VCALENDAR
