BEGIN:VCALENDAR
VERSION:2.0
PRODID:-//Plone.org//NONSGML plone.app.event//EN
X-WR-TIMEZONE:America/Sao_Paulo
BEGIN:VEVENT
SUMMARY:Torneio Brasileiro de Física em [ Auditório B107 do CAD3]
DTSTART;TZID=America/Sao_Paulo;VALUE=DATE-TIME:20241209T080000
DTEND;TZID=America/Sao_Paulo;VALUE=DATE-TIME:20241212T200000
DTSTAMP;VALUE=DATE-TIME:20260419T163304Z
UID:62c6fd01c0554dc4ac5d8a3562e889a0@150.164.76.86:8080
CREATED;VALUE=DATE-TIME:20241018T114550Z
DESCRIPTION:<p>Os equipamentos já existentes nos auditórios do CAD são 
 suficiente\, como projetores\, microfones e quadros. No dia 10/12/2024\, a
 uditório B106 está reservado pela manhã\, mas parece que B101 ou B102 e
 stá livre no mesmo horário\, então gostaria de reservar um desses\, par
 a ter dois auditórios no CAD3 para o torneio de Física se possível. Res
 umindo gostaria de 2 auditórios no CAD3 independente de quais\, nas segui
 ntes datas: 09/12/24 de 13:00 às 20:00\; 10/12/24 de 08:00 às 20:00\; 11
 /12/24 de 08:00 às 14:00\; e somente um auditório no dia 12/12/24 de 08:
 00 às 14:00. Tentei enviar o pedido com o B106\, mas gerou o conflito que
  expliquei acima e não sei se o pedido foi enviado. Vou enviar o pedido n
 ovamente sem o B106\, e vou entrar em contato. Grato desde já\, Ubirajara
  Agero.</p>
LAST-MODIFIED;VALUE=DATE-TIME:20241021T153349Z
URL:http://150.164.76.86:8080/cac/agenda/363201634802373731
END:VEVENT
BEGIN:VTIMEZONE
TZID:America/Sao_Paulo
X-LIC-LOCATION:America/Sao_Paulo
BEGIN:DAYLIGHT
DTSTART;VALUE=DATE-TIME:20241020T010000
TZNAME:BRST
TZOFFSETFROM:-0300
TZOFFSETTO:-0200
END:DAYLIGHT
END:VTIMEZONE
END:VCALENDAR
