BEGIN:VCALENDAR
VERSION:2.0
PRODID:-//Plone.org//NONSGML plone.app.event//EN
X-WR-TIMEZONE:America/Sao_Paulo
BEGIN:VEVENT
SUMMARY:Ao cair da tarde em [ Arena da praça de serviços]
DTSTART;TZID=America/Sao_Paulo;VALUE=DATE-TIME:20230831T140000
DTEND;TZID=America/Sao_Paulo;VALUE=DATE-TIME:20230831T190000
DTSTAMP;VALUE=DATE-TIME:20260421T091547Z
UID:e1f2713a3f7343a9ae3ce6721d7b091e@150.164.76.86:8080
CREATED;VALUE=DATE-TIME:20221124T160051Z
DESCRIPTION:Ao cair da tarde. Equipamentos a definir. somente reserva do e
 spaço.
LAST-MODIFIED;VALUE=DATE-TIME:20221129T150117Z
URL:http://150.164.76.86:8080/cac/agenda/3630033624843627777
END:VEVENT
BEGIN:VTIMEZONE
TZID:America/Sao_Paulo
X-LIC-LOCATION:America/Sao_Paulo
BEGIN:STANDARD
DTSTART;VALUE=DATE-TIME:20230225T230000
TZNAME:BRT
TZOFFSETFROM:-0200
TZOFFSETTO:-0300
END:STANDARD
END:VTIMEZONE
END:VCALENDAR
