BEGIN:VCALENDAR
VERSION:2.0
PRODID:-//Plone.org//NONSGML plone.app.event//EN
X-WR-TIMEZONE:America/Sao_Paulo
BEGIN:VEVENT
SUMMARY:Fórmula Tesla UFMG: Roll-Out 2023 em [ Auditorio A104 do Cad 2]
DTSTART;TZID=America/Sao_Paulo;VALUE=DATE-TIME:20230718T140000
DTEND;TZID=America/Sao_Paulo;VALUE=DATE-TIME:20230718T200000
DTSTAMP;VALUE=DATE-TIME:20260421T104055Z
UID:d6ee18c36bbc4c659238fc54296cb9ff@150.164.76.86:8080
CREATED;VALUE=DATE-TIME:20230622T150538Z
DESCRIPTION:<p>O Tesla é uma equipe de competição de carros elétricos 
 da UFMG que participa todos os anos de uma competição nacional que é a 
 Fórmula SAE Brasil. Em mais ou menos um mês antes da competição\, que 
 será na primeira semana de agosto\, a grande maioria das equipes de compe
 tição realizam um evento\, o Roll-Out\, que tem como intuito apresentar 
 o protótipo do carro desse ano da equipe\, pela primeira vez\, ao públic
 o externo: membros e ex membris da equipe\, os pais deles\, membros de out
 ras equipes de competição\, além de demais entusiastas com o Tesla. Par
 a isso\, precisamos de um espaço grande e formal por esse ser o maior eve
 nto promovido pela equipe como símbolo da concretização dos projetos de
 senvolvidos desde agosto de 2022. Agradeceremos\, assim\, a permissão par
 a o uso do auditório na data em questão. OBS: Modo aula.</p>
LAST-MODIFIED;VALUE=DATE-TIME:20230623T141627Z
URL:http://150.164.76.86:8080/cac/agenda/357018409400455339
END:VEVENT
BEGIN:VTIMEZONE
TZID:America/Sao_Paulo
X-LIC-LOCATION:America/Sao_Paulo
BEGIN:STANDARD
DTSTART;VALUE=DATE-TIME:20230225T230000
TZNAME:BRT
TZOFFSETFROM:-0200
TZOFFSETTO:-0300
END:STANDARD
END:VTIMEZONE
END:VCALENDAR
