BEGIN:VCALENDAR
VERSION:2.0
PRODID:-//Plone.org//NONSGML plone.app.event//EN
X-WR-TIMEZONE:America/Sao_Paulo
BEGIN:VEVENT
SUMMARY:MOSTRA SUA UFMG Novembro-2022 em [ Outros espacos Auditorio da Rei
 toria Saguao da Reitoria Arena da praça de serviços Entorno da Praca de 
 Servicos Auditorio Nobre do CAD 1 Auditorio 1A do CAD 1 Auditorio 2A do CA
 D 1 Auditorio A102 do Cad 2 Auditorio A104 do Cad 2 Auditório B101/102 do
  CAD 3 Auditório B301 do CAD 3 Auditório B302 do CAD 3 Auditório B106 d
 o CAD3 Auditório B107 do CAD3]
DTSTART;TZID=America/Sao_Paulo;VALUE=DATE-TIME:20221121T090000
DTEND;TZID=America/Sao_Paulo;VALUE=DATE-TIME:20221125T190000
DTSTAMP;VALUE=DATE-TIME:20260421T232638Z
UID:9e624ecffbee49a99c56509cd602c8f5@150.164.76.86:8080
CREATED;VALUE=DATE-TIME:20221017T201316Z
DESCRIPTION:<p>Trata-se de um agendamento para uma semana inteira\, com di
 versas atividades A Mostra Sua UFMG - organizada pela Prograd e pelo Cedec
 om - terá uma edição inteiramente online entre os dias 21 a 25 de novem
 bro. Estão previstas 02 mesas institucionais\, a de abertura (com presen
 ça da Reitora) e de encerramento. Essas seriam organizadas localmente na 
 Sala das Sessões\, e transmitidas para o Youtube. Para as demais mesas - 
 serão 13 mesas de apresentação de cursos - seriam organizadas remotamen
 te via conferência/zoom\, e também transmitidas via youtube. Estaremos t
 rabalhando numa articulação: - Prograd - Cedecom - Cac - Nai - Sods - Ce
 rimonial Gostaríamos de convidar a CAC para um reunião na quinta-feira\,
  às 14h\, na Prograd\, para apresentarmos o plano. Atenciosamente Victor 
 Paschoal</p>
LAST-MODIFIED;VALUE=DATE-TIME:20230111T201116Z
URL:http://150.164.76.86:8080/cac/agenda/3563022093273264819
END:VEVENT
BEGIN:VTIMEZONE
TZID:America/Sao_Paulo
X-LIC-LOCATION:America/Sao_Paulo
BEGIN:DAYLIGHT
DTSTART;VALUE=DATE-TIME:20221016T010000
TZNAME:BRST
TZOFFSETFROM:-0300
TZOFFSETTO:-0200
END:DAYLIGHT
END:VTIMEZONE
END:VCALENDAR
