BEGIN:VCALENDAR
VERSION:2.0
PRODID:-//Plone.org//NONSGML plone.app.event//EN
X-WR-TIMEZONE:America/Sao_Paulo
BEGIN:VEVENT
SUMMARY:Colação de Grau Oficial do Curso de Farmácia Noturno em [ Audit
 orio A104 do Cad 2]
DTSTART;TZID=America/Sao_Paulo;VALUE=DATE-TIME:20240117T160000
DTEND;TZID=America/Sao_Paulo;VALUE=DATE-TIME:20240117T210000
DTSTAMP;VALUE=DATE-TIME:20260420T080618Z
UID:a2b8893eac4b430ab98f50c963f48454@150.164.76.86:8080
CREATED;VALUE=DATE-TIME:20231222T132716Z
DESCRIPTION:Solenidade de Colação de Grau Oficial do Curso de Farmácia 
 Noturno da Faculdade de Farmácia da Universidade Federal de Minas Gerais
LAST-MODIFIED;VALUE=DATE-TIME:20231226T140637Z
URL:http://150.164.76.86:8080/cac/agenda/3559928318111177185
END:VEVENT
BEGIN:VTIMEZONE
TZID:America/Sao_Paulo
X-LIC-LOCATION:America/Sao_Paulo
BEGIN:DAYLIGHT
DTSTART;VALUE=DATE-TIME:20231015T010000
TZNAME:BRST
TZOFFSETFROM:-0300
TZOFFSETTO:-0200
END:DAYLIGHT
END:VTIMEZONE
END:VCALENDAR
