BEGIN:VCALENDAR
VERSION:2.0
PRODID:-//Plone.org//NONSGML plone.app.event//EN
X-WR-TIMEZONE:America/Sao_Paulo
BEGIN:VEVENT
SUMMARY:Química ao alcance de todos em [ Entorno da Praca de Servicos]
DTSTART;TZID=America/Sao_Paulo;VALUE=DATE-TIME:20230629T110000
DTEND;TZID=America/Sao_Paulo;VALUE=DATE-TIME:20230629T130000
DTSTAMP;VALUE=DATE-TIME:20260421T115700Z
UID:0cebad8725b84cb683091539d8cab940@150.164.76.86:8080
CREATED;VALUE=DATE-TIME:20230617T125634Z
DESCRIPTION:O evento consiste em atividades interativas com os transeuntes
  no entorno da praça de serviços com a finalidade a exemplificar e mostr
 ar a utilidade da química no nosso dia-a-dia e divulgar nosso projeto de 
 extensão "A química ao alcance de todos". \nAs atividades consistirão d
 e jogos e perguntas relacionadas à química do dia-a-dia. Não serão uti
 lizados equipamentos e serviços. A equipe do projeto estará presente ide
 ntificada com a camiseta padrão do projeto e crachá. \nHaverá um suport
 e para colocar um pôster com ilustrações sobre o projeto. O período pr
 oposto para as atividades é das 11 às 13h\, considerando que é o horár
 io de maior movimento do local. \nPrecisamos de pouco espaço e mesmo se h
 ouver alguma atividade na arena\, as atividades podem ocorrer em paralelo.
  A equipa é constituída por 8 integrantes.
LAST-MODIFIED;VALUE=DATE-TIME:20230619T141839Z
URL:http://150.164.76.86:8080/cac/agenda/3553285493242180905
END:VEVENT
BEGIN:VTIMEZONE
TZID:America/Sao_Paulo
X-LIC-LOCATION:America/Sao_Paulo
BEGIN:STANDARD
DTSTART;VALUE=DATE-TIME:20230225T230000
TZNAME:BRT
TZOFFSETFROM:-0200
TZOFFSETTO:-0300
END:STANDARD
END:VTIMEZONE
END:VCALENDAR
